BEGIN:VCALENDAR
VERSION:2.0
PRODID:-//Íþróttafélagið Grótta - ECPv6.10.0//NONSGML v1.0//EN
CALSCALE:GREGORIAN
METHOD:PUBLISH
X-WR-CALNAME:Íþróttafélagið Grótta
X-ORIGINAL-URL:https://grotta.is
X-WR-CALDESC:Events for Íþróttafélagið Grótta
REFRESH-INTERVAL;VALUE=DURATION:PT1H
X-Robots-Tag:noindex
X-PUBLISHED-TTL:PT1H
BEGIN:VTIMEZONE
TZID:UTC
BEGIN:STANDARD
TZOFFSETFROM:+0000
TZOFFSETTO:+0000
TZNAME:UTC
DTSTART:20250101T000000
END:STANDARD
END:VTIMEZONE
BEGIN:VEVENT
DTSTART;TZID=UTC:20250201T140000
DTEND;TZID=UTC:20250201T160000
DTSTAMP:20260420T074249
CREATED:20241209T121308Z
LAST-MODIFIED:20241209T121701Z
UID:574094-1738418400-1738425600@grotta.is
SUMMARY:Grótta - ÍR
DESCRIPTION:Handbolti | Olís deild kvenna 24-25 | Hertz höllin
URL:https://grotta.is/event/grotta-ir/
LOCATION:Hertz höllin\, Suðurströnd 2\, Seltjarnarnes\, 170\, Iceland
END:VEVENT
END:VCALENDAR